BEGIN:VCALENDAR
VERSION:2.0
PRODID:-//NADI Kg Alur Limbat - ECPv6.15.13.1//NONSGML v1.0//EN
CALSCALE:GREGORIAN
METHOD:PUBLISH
X-WR-CALNAME:NADI Kg Alur Limbat
X-ORIGINAL-URL:https://kgalurlimbat.nadi.my
X-WR-CALDESC:Events for NADI Kg Alur Limbat
REFRESH-INTERVAL;VALUE=DURATION:PT1H
X-Robots-Tag:noindex
X-PUBLISHED-TTL:PT1H
BEGIN:VTIMEZONE
TZID:Asia/Kuala_Lumpur
BEGIN:STANDARD
TZOFFSETFROM:+0800
TZOFFSETTO:+0800
TZNAME:+08
DTSTART:20240101T000000
END:STANDARD
END:VTIMEZONE
BEGIN:VEVENT
DTSTART;TZID=Asia/Kuala_Lumpur:20250717T153000
DTEND;TZID=Asia/Kuala_Lumpur:20250717T163000
DTSTAMP:20260424T113001
CREATED:20250716T030640Z
LAST-MODIFIED:20250716T030704Z
UID:3465-1752766200-1752769800@kgalurlimbat.nadi.my
SUMMARY:DILEA: LIVE CLASS BAHASA INGGERIS TINGKATAN 4
DESCRIPTION:DILEA: LIVE CLASS BAHASA INGEGRIS TINGKATAN 4
URL:https://kgalurlimbat.nadi.my/event/dilea-live-class-bahasa-ingegris-tingkatan-4/
END:VEVENT
BEGIN:VEVENT
DTSTART;TZID=Asia/Kuala_Lumpur:20250718T090000
DTEND;TZID=Asia/Kuala_Lumpur:20250718T180000
DTSTAMP:20260424T113001
CREATED:20250716T030541Z
LAST-MODIFIED:20250716T030541Z
UID:3463-1752829200-1752861600@kgalurlimbat.nadi.my
SUMMARY:DILEA: ENGLISH PROFICIENCY LESSON 13
DESCRIPTION:DILEA: ENGLISH PROFICIENCY LESSON 13
URL:https://kgalurlimbat.nadi.my/event/dilea-english-proficiency-lesson-13/
END:VEVENT
BEGIN:VEVENT
DTSTART;TZID=Asia/Kuala_Lumpur:20250719T090000
DTEND;TZID=Asia/Kuala_Lumpur:20250719T180000
DTSTAMP:20260424T113001
CREATED:20250716T030914Z
LAST-MODIFIED:20250716T030914Z
UID:3470-1752915600-1752948000@kgalurlimbat.nadi.my
SUMMARY:VIDEO PEMASARAN : KIDVENTURE COHORT 3 (OPERASI PERNIAGAAN)
DESCRIPTION:VIDEO PEMASARAN : KIDVENTURE COHORT 3 (OPERASI PERNIAGAAN)
URL:https://kgalurlimbat.nadi.my/event/video-pemasaran-kidventure-cohort-3-operasi-perniagaan/
END:VEVENT
BEGIN:VEVENT
DTSTART;TZID=Asia/Kuala_Lumpur:20250719T100000
DTEND;TZID=Asia/Kuala_Lumpur:20250719T110000
DTSTAMP:20260424T113001
CREATED:20250716T031107Z
LAST-MODIFIED:20250716T031107Z
UID:3474-1752919200-1752922800@kgalurlimbat.nadi.my
SUMMARY:WEBINAR KEMPEN INTERNET SELAMAT (KIS) : BERITA PLASU (7-12 TAHUN)
DESCRIPTION:WEBINAR KEMPEN INTERNET SELAMAT (KIS) : BERITA PLASU (7-12 TAHUN)
URL:https://kgalurlimbat.nadi.my/event/webinar-kempen-internet-selamat-kis-berita-plasu-7-12-tahun/
END:VEVENT
BEGIN:VEVENT
DTSTART;TZID=Asia/Kuala_Lumpur:20250719T110000
DTEND;TZID=Asia/Kuala_Lumpur:20250719T120000
DTSTAMP:20260424T113001
CREATED:20250716T031201Z
LAST-MODIFIED:20250716T031201Z
UID:3476-1752922800-1752926400@kgalurlimbat.nadi.my
SUMMARY:WEBINAR KEMPEN INTERNET SELAMAT (KIS) : BAHAYA TERSEMBUNYI (13 KE ATAS )
DESCRIPTION:WEBINAR KEMPEN INTERNET SELAMAT (KIS) : BAHAYA TERSEMBUNYI (13 KE ATAS )
URL:https://kgalurlimbat.nadi.my/event/webinar-kempen-internet-selamat-kis-bahaya-tersembunyi-13-ke-atas/
END:VEVENT
BEGIN:VEVENT
DTSTART;TZID=Asia/Kuala_Lumpur:20250719T143000
DTEND;TZID=Asia/Kuala_Lumpur:20250719T163000
DTSTAMP:20260424T113001
CREATED:20250716T030816Z
LAST-MODIFIED:20250716T030816Z
UID:3468-1752935400-1752942600@kgalurlimbat.nadi.my
SUMMARY:WEBINAR BERKALA BAHASA INGGERIS EDISI 3
DESCRIPTION:WEBINAR BERKALA BAHASA INGGERIS EDISI 3
URL:https://kgalurlimbat.nadi.my/event/webinar-berkala-bahasa-inggeris-edisi-3/
END:VEVENT
BEGIN:VEVENT
DTSTART;TZID=Asia/Kuala_Lumpur:20250719T143000
DTEND;TZID=Asia/Kuala_Lumpur:20250719T163000
DTSTAMP:20260424T113001
CREATED:20250716T031009Z
LAST-MODIFIED:20250716T031009Z
UID:3472-1752935400-1752942600@kgalurlimbat.nadi.my
SUMMARY:TINY TECHIES: UNBOXING KIT (SEK RENDAH)
DESCRIPTION:TINY TECHIES: UNBOXING KIT (SEK RENDAH)
URL:https://kgalurlimbat.nadi.my/event/tiny-techies-unboxing-kit-sek-rendah/
END:VEVENT
BEGIN:VEVENT
DTSTART;TZID=Asia/Kuala_Lumpur:20250722T090000
DTEND;TZID=Asia/Kuala_Lumpur:20250722T180000
DTSTAMP:20260424T113001
CREATED:20250716T031254Z
LAST-MODIFIED:20250716T031254Z
UID:3478-1753174800-1753207200@kgalurlimbat.nadi.my
SUMMARY:PODCAST USAHAWAN COHORT 4: NADIPRENEUR
DESCRIPTION:PODCAST USAHAWAN COHORT 4: NADIPRENEUR
URL:https://kgalurlimbat.nadi.my/event/podcast-usahawan-cohort-4-nadipreneur/
END:VEVENT
BEGIN:VEVENT
DTSTART;TZID=Asia/Kuala_Lumpur:20250724T080000
DTEND;TZID=Asia/Kuala_Lumpur:20250724T170000
DTSTAMP:20260424T113001
CREATED:20250716T031532Z
LAST-MODIFIED:20250716T031532Z
UID:3480-1753344000-1753376400@kgalurlimbat.nadi.my
SUMMARY:CYBERSECURITY WEBINAR
DESCRIPTION:CYBERSECURITY WEBINAR
URL:https://kgalurlimbat.nadi.my/event/cybersecurity-webinar/
END:VEVENT
BEGIN:VEVENT
DTSTART;TZID=Asia/Kuala_Lumpur:20250726T100000
DTEND;TZID=Asia/Kuala_Lumpur:20250726T113000
DTSTAMP:20260424T113001
CREATED:20250716T031715Z
LAST-MODIFIED:20250716T031715Z
UID:3484-1753524000-1753529400@kgalurlimbat.nadi.my
SUMMARY:WEBINAR 4 : OPERASI PERNIAGAN (KIDVENTURE)
DESCRIPTION:WEBINAR 4 : OPERASI PERNIAGAN (KIDVENTURE)
URL:https://kgalurlimbat.nadi.my/event/webinar-4-operasi-perniagan-kidventure/
END:VEVENT
BEGIN:VEVENT
DTSTART;TZID=Asia/Kuala_Lumpur:20250726T143000
DTEND;TZID=Asia/Kuala_Lumpur:20250726T163000
DTSTAMP:20260424T113001
CREATED:20250716T031613Z
LAST-MODIFIED:20250716T031613Z
UID:3482-1753540200-1753547400@kgalurlimbat.nadi.my
SUMMARY:UNBOXING KIT (MENENGAH)
DESCRIPTION:UNBOXING KIT (MENENGAH)
URL:https://kgalurlimbat.nadi.my/event/unboxing-kit-menengah/
END:VEVENT
END:VCALENDAR