BEGIN:VCALENDAR
VERSION:2.0
PRODID:-//NADI Kg Alur Limbat - ECPv6.15.13.1//NONSGML v1.0//EN
CALSCALE:GREGORIAN
METHOD:PUBLISH
X-WR-CALNAME:NADI Kg Alur Limbat
X-ORIGINAL-URL:https://kgalurlimbat.nadi.my
X-WR-CALDESC:Events for NADI Kg Alur Limbat
REFRESH-INTERVAL;VALUE=DURATION:PT1H
X-Robots-Tag:noindex
X-PUBLISHED-TTL:PT1H
BEGIN:VTIMEZONE
TZID:Asia/Kuala_Lumpur
BEGIN:STANDARD
TZOFFSETFROM:+0800
TZOFFSETTO:+0800
TZNAME:+08
DTSTART:20240101T000000
END:STANDARD
END:VTIMEZONE
BEGIN:VEVENT
DTSTART;TZID=Asia/Kuala_Lumpur:20250509T090000
DTEND;TZID=Asia/Kuala_Lumpur:20250509T150000
DTSTAMP:20260425T075747
CREATED:20250508T040342Z
LAST-MODIFIED:20250508T040342Z
UID:3253-1746781200-1746802800@kgalurlimbat.nadi.my
SUMMARY:PERTANDINGAN MLBB NADI PERINGKAT NEGERI
DESCRIPTION:PERTANDINGAN MLBB NADI PERINGKAT NEGERI
URL:https://kgalurlimbat.nadi.my/event/pertandingan-mlbb-nadi-peringkat-negeri/
END:VEVENT
BEGIN:VEVENT
DTSTART;TZID=Asia/Kuala_Lumpur:20250509T093000
DTEND;TZID=Asia/Kuala_Lumpur:20250509T103000
DTSTAMP:20260425T075747
CREATED:20250508T041019Z
LAST-MODIFIED:20250508T041019Z
UID:3255-1746783000-1746786600@kgalurlimbat.nadi.my
SUMMARY:MAHIR JAHIT
DESCRIPTION:MAHIR JAHIT
URL:https://kgalurlimbat.nadi.my/event/mahir-jahit/
END:VEVENT
BEGIN:VEVENT
DTSTART;TZID=Asia/Kuala_Lumpur:20250509T150000
DTEND;TZID=Asia/Kuala_Lumpur:20250509T163000
DTSTAMP:20260425T075747
CREATED:20250508T041238Z
LAST-MODIFIED:20250508T041238Z
UID:3257-1746802800-1746808200@kgalurlimbat.nadi.my
SUMMARY:MAHIR PERTANIAN PINTAR
DESCRIPTION:MAHIR PERTANIAN PINTAR
URL:https://kgalurlimbat.nadi.my/event/mahir-pertanian-pintar-3/
END:VEVENT
BEGIN:VEVENT
DTSTART;TZID=Asia/Kuala_Lumpur:20250510T100000
DTEND;TZID=Asia/Kuala_Lumpur:20250510T110000
DTSTAMP:20260425T075747
CREATED:20250508T041657Z
LAST-MODIFIED:20250508T041657Z
UID:3263-1746871200-1746874800@kgalurlimbat.nadi.my
SUMMARY:NADI X CYBERSECURITY
DESCRIPTION:NADI X CYBERSECURITY
URL:https://kgalurlimbat.nadi.my/event/nadi-x-cybersecurity/
END:VEVENT
BEGIN:VEVENT
DTSTART;TZID=Asia/Kuala_Lumpur:20250511T080000
DTEND;TZID=Asia/Kuala_Lumpur:20250511T180000
DTSTAMP:20260425T075747
CREATED:20250508T041349Z
LAST-MODIFIED:20250508T041349Z
UID:3259-1746950400-1746986400@kgalurlimbat.nadi.my
SUMMARY:DILEA ENGLISH PROFICIENCY
DESCRIPTION:DILEA ENGLISH PROFICIENCY
URL:https://kgalurlimbat.nadi.my/event/dilea-english-proficiency/
END:VEVENT
BEGIN:VEVENT
DTSTART;TZID=Asia/Kuala_Lumpur:20250513T103000
DTEND;TZID=Asia/Kuala_Lumpur:20250513T113000
DTSTAMP:20260425T075747
CREATED:20250508T041517Z
LAST-MODIFIED:20250508T041517Z
UID:3261-1747132200-1747135800@kgalurlimbat.nadi.my
SUMMARY:WELLBEING WEBINAR
DESCRIPTION:WELLBEING WEBINAR
URL:https://kgalurlimbat.nadi.my/event/wellbeing-webinar/
END:VEVENT
BEGIN:VEVENT
DTSTART;TZID=Asia/Kuala_Lumpur:20250520T100000
DTEND;TZID=Asia/Kuala_Lumpur:20250520T110000
DTSTAMP:20260425T075747
CREATED:20250508T041749Z
LAST-MODIFIED:20250508T041749Z
UID:3265-1747735200-1747738800@kgalurlimbat.nadi.my
SUMMARY:PODCAST EMPOWHER
DESCRIPTION:PODCAST EMPOWHER
URL:https://kgalurlimbat.nadi.my/event/podcast-empowher/
END:VEVENT
BEGIN:VEVENT
DTSTART;TZID=Asia/Kuala_Lumpur:20250523T040000
DTEND;TZID=Asia/Kuala_Lumpur:20250523T170000
DTSTAMP:20260425T075747
CREATED:20250523T070718Z
LAST-MODIFIED:20250523T070718Z
UID:3349-1747972800-1748019600@kgalurlimbat.nadi.my
SUMMARY:DILEA: ENGLISH PROFICIENCY
DESCRIPTION:ENGLISH PROFICIENCY
URL:https://kgalurlimbat.nadi.my/event/dilea-english-proficiency-2/
END:VEVENT
BEGIN:VEVENT
DTSTART;TZID=Asia/Kuala_Lumpur:20250524T100000
DTEND;TZID=Asia/Kuala_Lumpur:20250524T113000
DTSTAMP:20260425T075747
CREATED:20250523T080338Z
LAST-MODIFIED:20250523T080338Z
UID:3351-1748080800-1748086200@kgalurlimbat.nadi.my
SUMMARY:KELAS PENSIJILAN ESPORT
DESCRIPTION:TAKLIMAT PENSIJILAN KELAS ESPORT
URL:https://kgalurlimbat.nadi.my/event/kelas-pensijilan-esport/
END:VEVENT
BEGIN:VEVENT
DTSTART;TZID=Asia/Kuala_Lumpur:20250525T093000
DTEND;TZID=Asia/Kuala_Lumpur:20250525T113000
DTSTAMP:20260425T075747
CREATED:20250523T080456Z
LAST-MODIFIED:20250523T080456Z
UID:3353-1748165400-1748172600@kgalurlimbat.nadi.my
SUMMARY:KELAS MAHIR MASAK PISTACHIO BROWNIES KUNAFA
DESCRIPTION:KELAS MAHIR MASAK PISTACHIO BROWNIES KUNAFA
URL:https://kgalurlimbat.nadi.my/event/kelas-mahir-masak-pistachio-brownies-kunafa/
END:VEVENT
BEGIN:VEVENT
DTSTART;TZID=Asia/Kuala_Lumpur:20250527T093000
DTEND;TZID=Asia/Kuala_Lumpur:20250527T223000
DTSTAMP:20260425T075747
CREATED:20250523T080555Z
LAST-MODIFIED:20250523T080555Z
UID:3355-1748338200-1748385000@kgalurlimbat.nadi.my
SUMMARY:USAHAWAN COHORT PODCAST NADIPRENEUR
DESCRIPTION:USAHAWAN COHORT PODCAST NADIPRENEUR
URL:https://kgalurlimbat.nadi.my/event/usahawan-cohort-podcast-nadipreneur/
END:VEVENT
BEGIN:VEVENT
DTSTART;TZID=Asia/Kuala_Lumpur:20250527T100000
DTEND;TZID=Asia/Kuala_Lumpur:20250527T113000
DTSTAMP:20260425T075747
CREATED:20250523T081450Z
LAST-MODIFIED:20250523T081450Z
UID:3357-1748340000-1748345400@kgalurlimbat.nadi.my
SUMMARY:KELAS MAHOR FOTO SUNTINGAN GAMBAR VSCO
DESCRIPTION:KELAS MAHOR FOTO SUNTINGAN GAMBAR VSCO
URL:https://kgalurlimbat.nadi.my/event/kelas-mahor-foto-suntingan-gambar-vsco/
END:VEVENT
END:VCALENDAR