BEGIN:VCALENDAR
VERSION:2.0
PRODID:-//NADI Kg Alur Limbat - ECPv6.15.13.1//NONSGML v1.0//EN
CALSCALE:GREGORIAN
METHOD:PUBLISH
X-WR-CALNAME:NADI Kg Alur Limbat
X-ORIGINAL-URL:https://kgalurlimbat.nadi.my
X-WR-CALDESC:Events for NADI Kg Alur Limbat
REFRESH-INTERVAL;VALUE=DURATION:PT1H
X-Robots-Tag:noindex
X-PUBLISHED-TTL:PT1H
BEGIN:VTIMEZONE
TZID:UTC
BEGIN:STANDARD
TZOFFSETFROM:+0000
TZOFFSETTO:+0000
TZNAME:UTC
DTSTART:20230101T000000
END:STANDARD
END:VTIMEZONE
BEGIN:VTIMEZONE
TZID:UTC
BEGIN:STANDARD
TZOFFSETFROM:+0000
TZOFFSETTO:+0000
TZNAME:UTC
DTSTART:20230101T000000
END:STANDARD
END:VTIMEZONE
BEGIN:VEVENT
DTSTART;TZID=UTC:20250123T153000
DTEND;TZID=UTC:20250123T163000
DTSTAMP:20260425T202633
CREATED:20250106T003028Z
LAST-MODIFIED:20250106T003028Z
UID:3019-1737646200-1737649800@kgalurlimbat.nadi.my
SUMMARY:DILEA: BAHASA INGGERIS
DESCRIPTION:KELAS BAHASA INGGERIS UNTUK PELAJAR TINGKATAN 4
URL:https://kgalurlimbat.nadi.my/event/dilea-bahasa-inggeris/
CATEGORIES:DEFAULT
END:VEVENT
BEGIN:VEVENT
DTSTART;TZID=UTC:20250119T153000
DTEND;TZID=UTC:20250119T163000
DTSTAMP:20260425T202633
CREATED:20250106T002842Z
LAST-MODIFIED:20250106T002842Z
UID:3017-1737300600-1737304200@kgalurlimbat.nadi.my
SUMMARY:DILEA: BAHASA MELAYU
DESCRIPTION:KELAS UNTUK TINGKATAN 4
URL:https://kgalurlimbat.nadi.my/event/dilea-bahasa-melayu/
CATEGORIES:DEFAULT
END:VEVENT
BEGIN:VEVENT
DTSTART;TZID=UTC:20250117T090000
DTEND;TZID=UTC:20250117T100000
DTSTAMP:20260425T202633
CREATED:20250106T002301Z
LAST-MODIFIED:20250106T002556Z
UID:3013-1737104400-1737108000@kgalurlimbat.nadi.my
SUMMARY:MAHIR PERTANIAN PINTAR
DESCRIPTION:KELAS MAHIR PERTANIAN PINTAR DIADAKAN DI NADI ALUR LIMBAT
URL:https://kgalurlimbat.nadi.my/event/mahir-pertanian-pintar/
CATEGORIES:DEFAULT
END:VEVENT
BEGIN:VEVENT
DTSTART;TZID=UTC:20250108T090000
DTEND;TZID=UTC:20250108T110000
DTSTAMP:20260425T202633
CREATED:20250106T002525Z
LAST-MODIFIED:20250106T002608Z
UID:3015-1736326800-1736334000@kgalurlimbat.nadi.my
SUMMARY:WELLBEING SARINGAN KESIHATAN
DESCRIPTION:SARINGAN KESIHATAN DIADAKAN DI NAD. \nPEMERIKSAAN YANG DIJALANKAN: \n\nTEKANAN DARAH\nCEK BMI\nGULA DALAM DARAH
URL:https://kgalurlimbat.nadi.my/event/wellbeing-saringan-kesihatan/
CATEGORIES:DEFAULT
END:VEVENT
BEGIN:VEVENT
DTSTART;TZID=UTC:20250107T090000
DTEND;TZID=UTC:20250107T100000
DTSTAMP:20260425T202633
CREATED:20250106T002135Z
LAST-MODIFIED:20250106T002620Z
UID:3011-1736240400-1736244000@kgalurlimbat.nadi.my
SUMMARY:MAHIR MASAK
DESCRIPTION:KELAS MAHIR MASAK DIADAKAN DI NADI KELAS MASAKAN MENGENAI TEKNIK-TEKNIK PERSEKITARAN MENU CAFE
URL:https://kgalurlimbat.nadi.my/event/mahir-masak-2/
CATEGORIES:DEFAULT
END:VEVENT
BEGIN:VEVENT
DTSTART;TZID=UTC:20241224T090000
DTEND;TZID=UTC:20241224T100000
DTSTAMP:20260425T202633
CREATED:20241215T215609Z
LAST-MODIFIED:20250106T002630Z
UID:2942-1735030800-1735034400@kgalurlimbat.nadi.my
SUMMARY:MAHIR MASAK
DESCRIPTION:Mahir masak diadakan secara webinar di NADI
URL:https://kgalurlimbat.nadi.my/event/mahir-masak/
LOCATION:NADI ALUR LIMBAT\, NADI ALUR LIMBAT
CATEGORIES:DEFAULT
END:VEVENT
BEGIN:VEVENT
DTSTART;TZID=UTC:20241218T030000
DTEND;TZID=UTC:20241218T163000
DTSTAMP:20260425T202633
CREATED:20241215T215118Z
LAST-MODIFIED:20250106T002639Z
UID:2938-1734490800-1734539400@kgalurlimbat.nadi.my
SUMMARY:WEBINAR WELLBEING
DESCRIPTION:Webinar wellbeing diadakan secara live di FB NADI MALAYSIA tujuan utama adalah untuk bagi pendedahan kepada komuniti tentang penjagaan kesihatan pada masa kini.
URL:https://kgalurlimbat.nadi.my/event/webinar-wellbeing/
LOCATION:NADI ALUR LIMBAT\, NADI ALUR LIMBAT
CATEGORIES:DEFAULT
END:VEVENT
BEGIN:VEVENT
DTSTART;TZID=UTC:20241217T090000
DTEND;TZID=UTC:20241217T100000
DTSTAMP:20260425T202633
CREATED:20241215T215452Z
LAST-MODIFIED:20250106T002648Z
UID:2940-1734426000-1734429600@kgalurlimbat.nadi.my
SUMMARY:MAHIR BAIKI GAJET
DESCRIPTION:Mahir baiki gajet diadakan secara webinar di NADI.
URL:https://kgalurlimbat.nadi.my/event/mahir-baiki-gajet/
LOCATION:NADI ALUR LIMBAT\, NADI ALUR LIMBAT
CATEGORIES:DEFAULT
END:VEVENT
BEGIN:VEVENT
DTSTART;TZID=UTC:20241214T150000
DTEND;TZID=UTC:20241214T170000
DTSTAMP:20260425T202633
CREATED:20241215T214938Z
LAST-MODIFIED:20250106T002656Z
UID:2936-1734188400-1734195600@kgalurlimbat.nadi.my
SUMMARY:DILEA: PROGRAM KHAS NOTE MASTER PRO
DESCRIPTION:Program Note Master Pro iaitu program khas bagi pelajar tingkatan 4 untuk mengetahui tentang teknik-teknik menulis nota dan daya ingatan yang kuat dalam menghafal.
URL:https://kgalurlimbat.nadi.my/event/dilea-program-khas-note-master-pro/
LOCATION:NADI ALUR LIMBAT\, NADI ALUR LIMBAT
CATEGORIES:DEFAULT
END:VEVENT
BEGIN:VEVENT
DTSTART;TZID=UTC:20241210T090000
DTEND;TZID=UTC:20241210T100000
DTSTAMP:20260425T202633
CREATED:20241215T211854Z
LAST-MODIFIED:20250106T002706Z
UID:2930-1733821200-1733824800@kgalurlimbat.nadi.my
SUMMARY:KELAS MAHIR MASAK
DESCRIPTION:Kelas mahir masak yang diadakan secara webinar.
URL:https://kgalurlimbat.nadi.my/event/kelas-mahir-masak/
LOCATION:NADI ALUR LIMBAT\, NADI ALUR LIMBAT
CATEGORIES:DEFAULT
END:VEVENT
BEGIN:VEVENT
DTSTART;TZID=UTC:20241209T090000
DTEND;TZID=UTC:20241209T100000
DTSTAMP:20260425T202633
CREATED:20241215T214721Z
LAST-MODIFIED:20250106T002714Z
UID:2934-1733734800-1733738400@kgalurlimbat.nadi.my
SUMMARY:MAHIR FOTO
DESCRIPTION:Kelas mahir foto diadakan secara webinar di NADI.
URL:https://kgalurlimbat.nadi.my/event/mahir-foto/
LOCATION:NADI ALUR LIMBAT\, NADI ALUR LIMBAT
CATEGORIES:DEFAULT
END:VEVENT
BEGIN:VEVENT
DTSTART;TZID=UTC:20240928T090000
DTEND;TZID=UTC:20240928T120000
DTSTAMP:20260425T202633
CREATED:20240829T191619Z
LAST-MODIFIED:20240829T191619Z
UID:2902-1727514000-1727524800@kgalurlimbat.nadi.my
SUMMARY:E-PEMBELAJARAN
DESCRIPTION:KELAS TUISYEN  \nSEBARANG PERTANYAAN BOLEH BERHUBUNG DI KAUNTER PETUGAS
URL:https://kgalurlimbat.nadi.my/event/e-pembelajaran-4/
LOCATION:NaDi KG ALUR LIMBAT\, NaDi KG ALUR LIMBAT
CATEGORIES:DEFAULT
END:VEVENT
BEGIN:VEVENT
DTSTART;TZID=UTC:20240923T150000
DTEND;TZID=UTC:20240923T160000
DTSTAMP:20260425T202633
CREATED:20240829T191927Z
LAST-MODIFIED:20240829T191927Z
UID:2903-1727103600-1727107200@kgalurlimbat.nadi.my
SUMMARY:STEM: PENGENALAN STEM DAN ASAS IOT
DESCRIPTION:PENGENALAN TENTANG STEM  \nSEBARANG PERTANYAAN BOLEH BERHUBUNG DI KAUNTER
URL:https://kgalurlimbat.nadi.my/event/stem-pengenalan-stem-dan-asas-iot/
LOCATION:NaDi KG ALUR LIMBAT\, NaDi KG ALUR LIMBAT
CATEGORIES:DEFAULT
END:VEVENT
BEGIN:VEVENT
DTSTART;TZID=UTC:20240920T090000
DTEND;TZID=UTC:20240920T110000
DTSTAMP:20260425T202633
CREATED:20240829T191440Z
LAST-MODIFIED:20240829T191440Z
UID:2901-1726822800-1726830000@kgalurlimbat.nadi.my
SUMMARY:ICT-KUIZ ONLINE
DESCRIPTION:KUIZ RBT  \nSEBARANG PERTANYAAN BOLEH BERHUBUNG DI KAUNTER PETUGAS
URL:https://kgalurlimbat.nadi.my/event/ict-kuiz-online/
LOCATION:NaDi KG ALUR LIMBAT\, NaDi KG ALUR LIMBAT
CATEGORIES:DEFAULT
END:VEVENT
BEGIN:VEVENT
DTSTART;TZID=UTC:20240910T100000
DTEND;TZID=UTC:20240910T120000
DTSTAMP:20260425T202633
CREATED:20240829T191222Z
LAST-MODIFIED:20240829T191222Z
UID:2900-1725962400-1725969600@kgalurlimbat.nadi.my
SUMMARY:KELAS KEUSAHAWANAN
DESCRIPTION:COPYWRITING  \nSEBARANG PERTANYAAN BERHUBUNG DI KAUNTER PETUGAS
URL:https://kgalurlimbat.nadi.my/event/kelas-keusahawanan/
LOCATION:NaDi KG ALUR LIMBAT\, NaDi KG ALUR LIMBAT
CATEGORIES:DEFAULT
END:VEVENT
BEGIN:VEVENT
DTSTART;TZID=UTC:20240907T090000
DTEND;TZID=UTC:20240907T120000
DTSTAMP:20260425T202633
CREATED:20240829T191035Z
LAST-MODIFIED:20240829T191035Z
UID:2899-1725699600-1725710400@kgalurlimbat.nadi.my
SUMMARY:E-PEMBELAJARAN
DESCRIPTION:KELAS TUISYEN TAHAP 1 DAN 2  \nSEBARANG MAKLUMAT BOLEH BERHUBUNG DI KAUNTER
URL:https://kgalurlimbat.nadi.my/event/e-pembelajaran-3/
LOCATION:NaDi KG ALUR LIMBAT\, NaDi KG ALUR LIMBAT
CATEGORIES:DEFAULT
END:VEVENT
BEGIN:VEVENT
DTSTART;TZID=UTC:20240902T100000
DTEND;TZID=UTC:20240902T110000
DTSTAMP:20260425T202633
CREATED:20240829T190821Z
LAST-MODIFIED:20240829T190821Z
UID:2898-1725271200-1725274800@kgalurlimbat.nadi.my
SUMMARY:ICT-KELAS MICROSOFT OFFICE
DESCRIPTION:PELAJARI TEKNIK PENGGUNAAN MICROSOFT OFFICE \nSEBARANG PERTANYAAN BOLEH BERHUBUNG DI KAUNTE R
URL:https://kgalurlimbat.nadi.my/event/ict-kelas-microsoft-office/
LOCATION:NaDi KG ALUR LIMBAT\, NaDi KG ALUR LIMBAT
CATEGORIES:DEFAULT
END:VEVENT
BEGIN:VEVENT
DTSTART;TZID=UTC:20240826T150000
DTEND;TZID=UTC:20240826T170000
DTSTAMP:20260425T202633
CREATED:20240727T233718Z
LAST-MODIFIED:20240727T233718Z
UID:2896-1724684400-1724691600@kgalurlimbat.nadi.my
SUMMARY:ICT : CANVA
DESCRIPTION:PELAJARI TEKNIK EDITING DENGAN CANVA  \nSEBARANG URUSAN BOLEH BERHUBUNG DI KAUNTER PETUGAS
URL:https://kgalurlimbat.nadi.my/event/ict-canva/
LOCATION:NaDi KG ALUR LIMBAT\, NaDi KG ALUR LIMBAT
CATEGORIES:DEFAULT
END:VEVENT
BEGIN:VEVENT
DTSTART;TZID=UTC:20240820T150000
DTEND;TZID=UTC:20240820T170000
DTSTAMP:20260425T202633
CREATED:20240727T233406Z
LAST-MODIFIED:20240727T233406Z
UID:2894-1724166000-1724173200@kgalurlimbat.nadi.my
SUMMARY:PROGRAM PROMOSI DAN KESEDARAN
DESCRIPTION:PROGRAM PROMOSI DAN KESEDARAN  \nSEBARANG PERTANYAAN SILA BERHUBUNG DI KAUNTER PETUGAS
URL:https://kgalurlimbat.nadi.my/event/program-promosi-dan-kesedaran/
LOCATION:NaDi KG ALUR LIMBAT\, NaDi KG ALUR LIMBAT
CATEGORIES:DEFAULT
END:VEVENT
BEGIN:VEVENT
DTSTART;TZID=UTC:20240814T090000
DTEND;TZID=UTC:20240814T120000
DTSTAMP:20260425T202633
CREATED:20240727T233011Z
LAST-MODIFIED:20240727T233011Z
UID:2893-1723626000-1723636800@kgalurlimbat.nadi.my
SUMMARY:KELAS USAHAWAN
DESCRIPTION:BELAJAR TEKNIK PEMASARAN PRODUK DI TIKTOK  \nSEBARANG PERTANYAAN LANJUT SILA BERHUBUNG DI KAUNTER
URL:https://kgalurlimbat.nadi.my/event/kelas-usahawan/
LOCATION:NaDi KG ALUR LIMBAT\, NaDi KG ALUR LIMBAT
CATEGORIES:DEFAULT
END:VEVENT
BEGIN:VEVENT
DTSTART;TZID=UTC:20240813T160000
DTEND;TZID=UTC:20240813T170000
DTSTAMP:20260425T202633
CREATED:20240727T233530Z
LAST-MODIFIED:20240727T233530Z
UID:2895-1723564800-1723568400@kgalurlimbat.nadi.my
SUMMARY:KELAS SOFT SKILL: KEMAHIRAN BERKOMUNIKASI
DESCRIPTION:KEMAHIRAN BERKOMUNIKASI DI TEMPAT KERJA  \nSEBARANG URUSAN SILA BERHUBUNG DI KAUNTER PETUGAS
URL:https://kgalurlimbat.nadi.my/event/kelas-soft-skill-kemahiran-berkomunikasi/
LOCATION:NaDi KG ALUR LIMBAT\, NaDi KG ALUR LIMBAT
CATEGORIES:DEFAULT
END:VEVENT
BEGIN:VEVENT
DTSTART;TZID=UTC:20240804T090000
DTEND;TZID=UTC:20240804T110000
DTSTAMP:20260425T202633
CREATED:20240727T230724Z
LAST-MODIFIED:20240727T230724Z
UID:2891-1722762000-1722769200@kgalurlimbat.nadi.my
SUMMARY:KELAS ICT
DESCRIPTION:PENGENALAN MICROSOFT OFFICE  \nSEBARANG PERTANYAAN SILA BERHUBUNG DI KAUNTER
URL:https://kgalurlimbat.nadi.my/event/kelas-ict-3/
LOCATION:NaDi KG ALUR LIMBAT\, NaDi KG ALUR LIMBAT
CATEGORIES:DEFAULT
END:VEVENT
BEGIN:VEVENT
DTSTART;TZID=UTC:20240803T100000
DTEND;TZID=UTC:20240803T120000
DTSTAMP:20260425T202633
CREATED:20240727T230951Z
LAST-MODIFIED:20240727T230951Z
UID:2892-1722679200-1722686400@kgalurlimbat.nadi.my
SUMMARY:E-LEARNING
DESCRIPTION:KELAS TUISYEN SEKOLALAH MENENGAH DAN RENDAH  \nSEBARANG PERTANYAAN SILA BERHUBUNG DI KAUNTER
URL:https://kgalurlimbat.nadi.my/event/e-learning-3/
LOCATION:NaDi KG ALUR LIMBAT\, NaDi KG ALUR LIMBAT
CATEGORIES:DEFAULT
END:VEVENT
BEGIN:VEVENT
DTSTART;TZID=UTC:20240725T150000
DTEND;TZID=UTC:20240725T170000
DTSTAMP:20260425T202633
CREATED:20240710T013053Z
LAST-MODIFIED:20240710T013053Z
UID:2890-1721919600-1721926800@kgalurlimbat.nadi.my
SUMMARY:Kelas Soft Skill - Kemahiran Komunikasi
DESCRIPTION:Kemahiran Komunikasi dalam mempromosikan produk dengan beberapa skill dan energy \nsebarang pertanyaan rujuk di kaunter
URL:https://kgalurlimbat.nadi.my/event/kelas-soft-skill-kemahiran-komunikasi/
LOCATION:NaDi KG ALUR LIMBAT\, NaDi KG ALUR LIMBAT
CATEGORIES:DEFAULT
END:VEVENT
BEGIN:VEVENT
DTSTART;TZID=UTC:20240714T100000
DTEND;TZID=UTC:20240714T130000
DTSTAMP:20260425T202633
CREATED:20240710T012618Z
LAST-MODIFIED:20240710T012618Z
UID:2889-1720951200-1720962000@kgalurlimbat.nadi.my
SUMMARY:Program Promosi & Kesedaran
DESCRIPTION:Program promosi dan kesedaran dirancang akan di adakan bersama dengan pihak Kesihatan Daerah Marang bahagian Farmasi di Tabika Kemas Alur Limbat  \nSebarang pertanyaan rujuk di kaunter NADI
URL:https://kgalurlimbat.nadi.my/event/program-promosi-kesedaran/
LOCATION:NaDi KG ALUR LIMBAT\, NaDi KG ALUR LIMBAT
CATEGORIES:DEFAULT
END:VEVENT
BEGIN:VEVENT
DTSTART;TZID=UTC:20240701T090000
DTEND;TZID=UTC:20240701T100000
DTSTAMP:20260425T202633
CREATED:20240626T234405Z
LAST-MODIFIED:20240626T234405Z
UID:2888-1719824400-1719828000@kgalurlimbat.nadi.my
SUMMARY:KELAS ICT
DESCRIPTION:KELAS ICT BAGI PELBAGAI MODUL YANG BERKAITAN KEMAHIRAN KOMPUTER DAN INTERNET  \nSEBARANG MAKLUMAT BOLEH BERHUBUNG DI KAUNTER PETUGAS
URL:https://kgalurlimbat.nadi.my/event/kelas-ict-2/
LOCATION:NADI ALUR LIMBAT\, NADI ALUR LIMBAT
CATEGORIES:DEFAULT
END:VEVENT
BEGIN:VEVENT
DTSTART;TZID=UTC:20240627T160000
DTEND;TZID=UTC:20240627T180000
DTSTAMP:20260425T202633
CREATED:20240530T010350Z
LAST-MODIFIED:20240530T010350Z
UID:2885-1719504000-1719511200@kgalurlimbat.nadi.my
SUMMARY:ICT: PENGENALAN MICROSOFT WORD
DESCRIPTION:PENGENALAN ASAS TENTANG FUNGSI MICROSOFT WORD  \nUNTUK MAKLUMAT LANJUT BOLEH BERHUBUNG DI KAUNTER PETUGAS
URL:https://kgalurlimbat.nadi.my/event/ict-pengenalan-microsoft-word/
LOCATION:NaDi KG ALUR LIMBAT\, NaDi KG ALUR LIMBAT
CATEGORIES:DEFAULT
END:VEVENT
BEGIN:VEVENT
DTSTART;TZID=UTC:20240626T100000
DTEND;TZID=UTC:20240626T120000
DTSTAMP:20260425T202633
CREATED:20240530T011342Z
LAST-MODIFIED:20240530T011342Z
UID:2886-1719396000-1719403200@kgalurlimbat.nadi.my
SUMMARY:SOFT SKILL
DESCRIPTION:SOFT SKILL  \nSEBARANG MAKLUMAT SILA BERHUBUNG DI KAUNTER PETUGAS
URL:https://kgalurlimbat.nadi.my/event/soft-skill/
CATEGORIES:DEFAULT
END:VEVENT
BEGIN:VEVENT
DTSTART;TZID=UTC:20240618T080000
DTEND;TZID=UTC:20240618T210000
DTSTAMP:20260425T202633
CREATED:20240530T010150Z
LAST-MODIFIED:20240530T010150Z
UID:2884-1718697600-1718744400@kgalurlimbat.nadi.my
SUMMARY:KELAS KEUSAHAWANAN:TIKTOK SHOP
DESCRIPTION:PENGENALAN ASAS TENTANG TIKTOK SHOP  \nSEBARANG MAKLUMAT BOLEH BERHUBUNG DI KAUNTER PETUGAS
URL:https://kgalurlimbat.nadi.my/event/kelas-keusahawanantiktok-shop/
LOCATION:NaDi KG ALUR LIMBAT\, NaDi KG ALUR LIMBAT
CATEGORIES:DEFAULT
END:VEVENT
BEGIN:VEVENT
DTSTART;TZID=UTC:20240615T100000
DTEND;TZID=UTC:20240615T120000
DTSTAMP:20260425T202633
CREATED:20240530T005057Z
LAST-MODIFIED:20240530T005057Z
UID:2880-1718445600-1718452800@kgalurlimbat.nadi.my
SUMMARY:E-LEARNING
DESCRIPTION:Pelbagai pilihan kelas yang ditawarkan untuk pelajar pra sekolah\, sekolah rendah  \nUNTUK MAKLUMAT LANJUT BOLEH KE KAUNTER NADI
URL:https://kgalurlimbat.nadi.my/event/e-learning/
LOCATION:NaDi KG ALUR LIMBAT\, NaDi KG ALUR LIMBAT
CATEGORIES:DEFAULT
END:VEVENT
END:VCALENDAR