BEGIN:VCALENDAR
VERSION:2.0
PRODID:-//NADI Kg Alur Limbat - ECPv6.15.13.1//NONSGML v1.0//EN
CALSCALE:GREGORIAN
METHOD:PUBLISH
X-WR-CALNAME:NADI Kg Alur Limbat
X-ORIGINAL-URL:https://kgalurlimbat.nadi.my
X-WR-CALDESC:Events for NADI Kg Alur Limbat
REFRESH-INTERVAL;VALUE=DURATION:PT1H
X-Robots-Tag:noindex
X-PUBLISHED-TTL:PT1H
BEGIN:VTIMEZONE
TZID:Asia/Kuala_Lumpur
BEGIN:STANDARD
TZOFFSETFROM:+0800
TZOFFSETTO:+0800
TZNAME:+08
DTSTART:20240101T000000
END:STANDARD
END:VTIMEZONE
BEGIN:VEVENT
DTSTART;TZID=Asia/Kuala_Lumpur:20250719T090000
DTEND;TZID=Asia/Kuala_Lumpur:20250719T180000
DTSTAMP:20260423T053803
CREATED:20250716T030914Z
LAST-MODIFIED:20250716T030914Z
UID:3470-1752915600-1752948000@kgalurlimbat.nadi.my
SUMMARY:VIDEO PEMASARAN : KIDVENTURE COHORT 3 (OPERASI PERNIAGAAN)
DESCRIPTION:VIDEO PEMASARAN : KIDVENTURE COHORT 3 (OPERASI PERNIAGAAN)
URL:https://kgalurlimbat.nadi.my/event/video-pemasaran-kidventure-cohort-3-operasi-perniagaan/
END:VEVENT
BEGIN:VEVENT
DTSTART;TZID=Asia/Kuala_Lumpur:20250719T100000
DTEND;TZID=Asia/Kuala_Lumpur:20250719T110000
DTSTAMP:20260423T053803
CREATED:20250716T031107Z
LAST-MODIFIED:20250716T031107Z
UID:3474-1752919200-1752922800@kgalurlimbat.nadi.my
SUMMARY:WEBINAR KEMPEN INTERNET SELAMAT (KIS) : BERITA PLASU (7-12 TAHUN)
DESCRIPTION:WEBINAR KEMPEN INTERNET SELAMAT (KIS) : BERITA PLASU (7-12 TAHUN)
URL:https://kgalurlimbat.nadi.my/event/webinar-kempen-internet-selamat-kis-berita-plasu-7-12-tahun/
END:VEVENT
BEGIN:VEVENT
DTSTART;TZID=Asia/Kuala_Lumpur:20250719T110000
DTEND;TZID=Asia/Kuala_Lumpur:20250719T120000
DTSTAMP:20260423T053803
CREATED:20250716T031201Z
LAST-MODIFIED:20250716T031201Z
UID:3476-1752922800-1752926400@kgalurlimbat.nadi.my
SUMMARY:WEBINAR KEMPEN INTERNET SELAMAT (KIS) : BAHAYA TERSEMBUNYI (13 KE ATAS )
DESCRIPTION:WEBINAR KEMPEN INTERNET SELAMAT (KIS) : BAHAYA TERSEMBUNYI (13 KE ATAS )
URL:https://kgalurlimbat.nadi.my/event/webinar-kempen-internet-selamat-kis-bahaya-tersembunyi-13-ke-atas/
END:VEVENT
BEGIN:VEVENT
DTSTART;TZID=Asia/Kuala_Lumpur:20250719T143000
DTEND;TZID=Asia/Kuala_Lumpur:20250719T163000
DTSTAMP:20260423T053803
CREATED:20250716T030816Z
LAST-MODIFIED:20250716T030816Z
UID:3468-1752935400-1752942600@kgalurlimbat.nadi.my
SUMMARY:WEBINAR BERKALA BAHASA INGGERIS EDISI 3
DESCRIPTION:WEBINAR BERKALA BAHASA INGGERIS EDISI 3
URL:https://kgalurlimbat.nadi.my/event/webinar-berkala-bahasa-inggeris-edisi-3/
END:VEVENT
BEGIN:VEVENT
DTSTART;TZID=Asia/Kuala_Lumpur:20250719T143000
DTEND;TZID=Asia/Kuala_Lumpur:20250719T163000
DTSTAMP:20260423T053803
CREATED:20250716T031009Z
LAST-MODIFIED:20250716T031009Z
UID:3472-1752935400-1752942600@kgalurlimbat.nadi.my
SUMMARY:TINY TECHIES: UNBOXING KIT (SEK RENDAH)
DESCRIPTION:TINY TECHIES: UNBOXING KIT (SEK RENDAH)
URL:https://kgalurlimbat.nadi.my/event/tiny-techies-unboxing-kit-sek-rendah/
END:VEVENT
END:VCALENDAR