BEGIN:VCALENDAR
VERSION:2.0
PRODID:-//NADI Kg Alur Limbat - ECPv6.15.13.1//NONSGML v1.0//EN
CALSCALE:GREGORIAN
METHOD:PUBLISH
X-WR-CALNAME:NADI Kg Alur Limbat
X-ORIGINAL-URL:https://kgalurlimbat.nadi.my
X-WR-CALDESC:Events for NADI Kg Alur Limbat
REFRESH-INTERVAL;VALUE=DURATION:PT1H
X-Robots-Tag:noindex
X-PUBLISHED-TTL:PT1H
BEGIN:VTIMEZONE
TZID:Asia/Kuala_Lumpur
BEGIN:STANDARD
TZOFFSETFROM:+0800
TZOFFSETTO:+0800
TZNAME:+08
DTSTART:20240101T000000
END:STANDARD
END:VTIMEZONE
BEGIN:VEVENT
DTSTART;TZID=Asia/Kuala_Lumpur:20250626T093000
DTEND;TZID=Asia/Kuala_Lumpur:20250626T103000
DTSTAMP:20260425T075403
CREATED:20250622T044658Z
LAST-MODIFIED:20250622T044658Z
UID:3430-1750930200-1750933800@kgalurlimbat.nadi.my
SUMMARY:FORUM BERSAMA KOMUNITI NADI MAHIR
DESCRIPTION:Jom sertai Forum MAHIR bersama Komuniti untuk mengetahui lebih lanjut tentang Program Mahir pada pengambilan akan datang. Peserta berpeluang untuk memenangi hadiah cabutan bertuah sekiranya peserta hadir ke NADI pada hari & masa forum tersebut dilangsungkan: \nSesi Timur (Pahang\, Terengganu\, Kelantan)\n🗓️ 26 Jun 2025 (Khamis)\n🕰️ 9:30am – 10:30am \nSekiranya ada peserta tidak dapat hadir pada sesi ini\, peserta boleh masuk pada sesi terbuka iaitu pada: \n🗓️ 5 Julai 2025 (Sabtu)\n🕰️ 9:30am – 10:30am \natau \n🗓️ 6 Julai 2025 (Ahad)\n🕰️ 3:00pm – 4:00pm
URL:https://kgalurlimbat.nadi.my/event/forum-bersama-komuniti-nadi-mahir/
END:VEVENT
BEGIN:VEVENT
DTSTART;TZID=Asia/Kuala_Lumpur:20250626T143000
DTEND;TZID=Asia/Kuala_Lumpur:20250626T153000
DTSTAMP:20260425T075403
CREATED:20250622T045219Z
LAST-MODIFIED:20250622T045219Z
UID:3438-1750948200-1750951800@kgalurlimbat.nadi.my
SUMMARY:NADI MAHIR BAIKI GAJET:TAK KENAL MAKA TAK CINTA-JOM KENAL KOMPUTER!
DESCRIPTION:NADI MAHIR BAIKI GAJET:TAK KENAL MAKA TAK CINTA-JOM KENAL KOMPUTER!
URL:https://kgalurlimbat.nadi.my/event/nadi-mahir-baiki-gajettak-kenal-maka-tak-cinta-jom-kenal-komputer/
END:VEVENT
END:VCALENDAR