BEGIN:VCALENDAR
VERSION:2.0
PRODID:-//NADI Kg Alur Limbat - ECPv6.15.13.1//NONSGML v1.0//EN
CALSCALE:GREGORIAN
METHOD:PUBLISH
X-WR-CALNAME:NADI Kg Alur Limbat
X-ORIGINAL-URL:https://kgalurlimbat.nadi.my
X-WR-CALDESC:Events for NADI Kg Alur Limbat
REFRESH-INTERVAL;VALUE=DURATION:PT1H
X-Robots-Tag:noindex
X-PUBLISHED-TTL:PT1H
BEGIN:VTIMEZONE
TZID:Asia/Kuala_Lumpur
BEGIN:STANDARD
TZOFFSETFROM:+0800
TZOFFSETTO:+0800
TZNAME:+08
DTSTART:20240101T000000
END:STANDARD
END:VTIMEZONE
BEGIN:VEVENT
DTSTART;TZID=Asia/Kuala_Lumpur:20250610T090000
DTEND;TZID=Asia/Kuala_Lumpur:20250610T180000
DTSTAMP:20260424T053544
CREATED:20250604T045133Z
LAST-MODIFIED:20250604T045133Z
UID:3390-1749546000-1749578400@kgalurlimbat.nadi.my
SUMMARY:DILEA ENGLISH PROFICIENCY LESSON 10
DESCRIPTION:DILEA ENGLISH PROFICIENCY LESSON 10
URL:https://kgalurlimbat.nadi.my/event/dilea-english-proficiency-lesson-10/
END:VEVENT
END:VCALENDAR