BEGIN:VCALENDAR
VERSION:2.0
PRODID:-//NADI Kg Alur Limbat - ECPv6.15.13.1//NONSGML v1.0//EN
CALSCALE:GREGORIAN
METHOD:PUBLISH
X-WR-CALNAME:NADI Kg Alur Limbat
X-ORIGINAL-URL:https://kgalurlimbat.nadi.my
X-WR-CALDESC:Events for NADI Kg Alur Limbat
REFRESH-INTERVAL;VALUE=DURATION:PT1H
X-Robots-Tag:noindex
X-PUBLISHED-TTL:PT1H
BEGIN:VTIMEZONE
TZID:Asia/Kuala_Lumpur
BEGIN:STANDARD
TZOFFSETFROM:+0800
TZOFFSETTO:+0800
TZNAME:+08
DTSTART:20240101T000000
END:STANDARD
END:VTIMEZONE
BEGIN:VEVENT
DTSTART;TZID=Asia/Kuala_Lumpur:20250314T093000
DTEND;TZID=Asia/Kuala_Lumpur:20250314T223000
DTSTAMP:20260424T155127
CREATED:20250225T134239Z
LAST-MODIFIED:20250225T134239Z
UID:3111-1741944600-1741991400@kgalurlimbat.nadi.my
SUMMARY:MAHIR PERTANIAN PINTAR 
DESCRIPTION:MAHIR PERTANIAN PINTAR
URL:https://kgalurlimbat.nadi.my/event/mahir-pertanian-pintar-2/
END:VEVENT
BEGIN:VEVENT
DTSTART;TZID=Asia/Kuala_Lumpur:20250310T213000
DTEND;TZID=Asia/Kuala_Lumpur:20250310T213000
DTSTAMP:20260424T155127
CREATED:20250225T134331Z
LAST-MODIFIED:20250225T134427Z
UID:3113-1741642200-1741642200@kgalurlimbat.nadi.my
SUMMARY:MAHIR BAIKI FOTO
DESCRIPTION:MAHIR BAIKI FOTO
URL:https://kgalurlimbat.nadi.my/event/mahir-menjahit/
END:VEVENT
END:VCALENDAR